BEGIN:VCALENDAR
VERSION:2.0
PRODID:DPCALENDAR
CALSCALE:GREGORIAN
BEGIN:VTIMEZONE
TZID:Europe/Zurich
BEGIN:STANDARD
DTSTART:20251026T010000
TZOFFSETFROM:+0200
TZOFFSETTO:+0100
TZNAME:CET
END:STANDARD
BEGIN:STANDARD
DTSTART:20261025T010000
TZOFFSETFROM:+0200
TZOFFSETTO:+0100
TZNAME:CET
END:STANDARD
BEGIN:DAYLIGHT
DTSTART:20260329T010000
TZOFFSETFROM:+0100
TZOFFSETTO:+0200
TZNAME:CEST
END:DAYLIGHT
END:VTIMEZONE
X-WR-TIMEZONE:Europe/Zurich
BEGIN:VEVENT
DTSTART;TZID=Europe/Zurich:20260811T140000
DTEND;TZID=Europe/Zurich:20260811T163000
UID:m1usvwi0lyx066pxtia0euio@backend.feg-uzwil.ch
SUMMARY:Seniorentreff
CREATED:20260419T201106Z
DTSTAMP:20260419T201106Z
URL:https://feguzwil.ch/index.php/component/dpcalendar/event/i-5-m1usvwi0lyx066pxtia0euio_202608111200?calid=i-5
DESCRIPTION:mit David WeibelBibelgespräch. 
X-ALT-DESC;FMTTYPE=text/html:<p>mit David Weibel</p>Bibelgespräch. <br><br>
LAST-MODIFIED:20260217T101238Z
SEQUENCE:-5306308
X-ACCESS:1
X-HITS:0
X-COLOR:39a329
X-SHOW-END-TIME:1
END:VEVENT
END:VCALENDAR